BEGIN:VCALENDAR
VERSION:2.0
PRODID:-//3nity.com//3nity CMS//EN
BEGIN:VEVENT
SUMMARY:Cornerstone International Church - Blantyre, Malawi
UID:2026-07-18-1216085@www.tudorbismark.org
SEQUENCE:0
STATUS:CONFIRMED
DTSTART:20260724T180000
DTEND:20260724T200000
DTSTAMP:20161222T120000
DESCRIPTION:Apostle Upire Chiwanda
URL:http://www.tudorbismark.org
END:VEVENT
END:VCALENDAR
